BEGIN:VCALENDAR
PRODID:http://wibix.de/infusions/pro_download_panel/download.php?did=27
VERSION:2.0
METHOD:PUBLISH
BEGIN:VEVENT
DTSTART:20260502T100000Z
DTEND:20260502T120000Z
UID:1721@http://folkan.sikfors.com/
DTSTAMP:20260425T201321Z
DESCRIPTION:Barnkalas
SUMMARY:Mikael Hedenström
LOCATION:Stora salen
CLASS:PUBLIC
END:VEVENT
END:VCALENDAR
