BEGIN:VCALENDAR
PRODID:http://wibix.de/infusions/pro_download_panel/download.php?did=27
VERSION:2.0
METHOD:PUBLISH
BEGIN:VEVENT
DTSTART:20260315T110000Z
DTEND:20260315T140000Z
UID:1717@http://folkan.sikfors.com/
DTSTAMP:20260304T075452Z
DESCRIPTION:Barnkalas
SUMMARY:Pontus Larsson
LOCATION:stora salen
CLASS:PUBLIC
END:VEVENT
END:VCALENDAR
