BEGIN:VCALENDAR
PRODID:http://wibix.de/infusions/pro_download_panel/download.php?did=27
VERSION:2.0
METHOD:PUBLISH
BEGIN:VEVENT
DTSTART:20260523T220100Z
DTEND:20260524T100000Z
UID:1715@http://folkan.sikfors.com/
DTSTAMP:20260302T154948Z
DESCRIPTION:Evanemang
SUMMARY:Sikfors Camping
LOCATION:Stora salen
CLASS:PUBLIC
END:VEVENT
END:VCALENDAR
