BEGIN:VCALENDAR
PRODID:http://wibix.de/infusions/pro_download_panel/download.php?did=27
VERSION:2.0
METHOD:PUBLISH
BEGIN:VEVENT
DTSTART:20260822T220100Z
DTEND:20260823T160000Z
UID:1713@http://folkan.sikfors.com/
DTSTAMP:20260223T173733Z
DESCRIPTION:Bröllop
SUMMARY:Nicklas Karlsson
LOCATION:Stora salen
CLASS:PUBLIC
END:VEVENT
END:VCALENDAR
