BEGIN:VCALENDAR
PRODID:http://wibix.de/infusions/pro_download_panel/download.php?did=27
VERSION:2.0
METHOD:PUBLISH
BEGIN:VEVENT
DTSTART:20261204T070000Z
DTEND:20261204T170000Z
UID:1709@http://folkan.sikfors.com/
DTSTAMP:20260223T160711Z
DESCRIPTION:Julfest
SUMMARY:PRO Sikfors
LOCATION:Stora salen
CLASS:PUBLIC
END:VEVENT
END:VCALENDAR
