BEGIN:VCALENDAR
PRODID:http://wibix.de/infusions/pro_download_panel/download.php?did=27
VERSION:2.0
METHOD:PUBLISH
BEGIN:VEVENT
DTSTART:20260821T060000Z
DTEND:20260821T160000Z
UID:1707@http://folkan.sikfors.com/
DTSTAMP:20260223T160447Z
DESCRIPTION:Surströmming
SUMMARY:PRO Sikfors
LOCATION:Stora salen
CLASS:PUBLIC
END:VEVENT
END:VCALENDAR
