BEGIN:VCALENDAR
PRODID:http://wibix.de/infusions/pro_download_panel/download.php?did=27
VERSION:2.0
METHOD:PUBLISH
BEGIN:VEVENT
DTSTART:20260317T080000Z
DTEND:20260317T160000Z
UID:1705@http://folkan.sikfors.com/
DTSTAMP:20260212T170015Z
DESCRIPTION:Konferens\nFörbered\nStäll fram stolar och bord för ca 85 personer\nStäll fram projektor
SUMMARY:Stenvalls
LOCATION:Stora salen
CLASS:PUBLIC
END:VEVENT
END:VCALENDAR
