BEGIN:VCALENDAR
PRODID:http://wibix.de/infusions/pro_download_panel/download.php?did=27
VERSION:2.0
METHOD:PUBLISH
BEGIN:VEVENT
DTSTART:20251207T110000Z
DTEND:20251207T170000Z
UID:1683@http://folkan.sikfors.com/
DTSTAMP:20251205T092518Z
DESCRIPTION:Kalas
SUMMARY:Richard Danielsson
LOCATION:stora salen
CLASS:PUBLIC
END:VEVENT
END:VCALENDAR
