BEGIN:VCALENDAR
PRODID:http://wibix.de/infusions/pro_download_panel/download.php?did=27
VERSION:2.0
METHOD:PUBLISH
BEGIN:VEVENT
DTSTART:20260905T220100Z
DTEND:20260906T100000Z
UID:1680@http://folkan.sikfors.com/
DTSTAMP:20251026T113408Z
DESCRIPTION:Val 2026
SUMMARY:Piteå Kommun
LOCATION:stora salen
CLASS:PUBLIC
END:VEVENT
END:VCALENDAR
