BEGIN:VCALENDAR
PRODID:http://wibix.de/infusions/pro_download_panel/download.php?did=27
VERSION:2.0
METHOD:PUBLISH
BEGIN:VEVENT
DTSTART:20260904T220100Z
DTEND:20260905T213700Z
UID:1679@http://folkan.sikfors.com/
DTSTAMP:20251026T113153Z
DESCRIPTION:Val 2026
SUMMARY:Piteå Kommun
LOCATION:Stora salen
CLASS:PUBLIC
END:VEVENT
END:VCALENDAR
