BEGIN:VCALENDAR
PRODID:http://wibix.de/infusions/pro_download_panel/download.php?did=27
VERSION:2.0
METHOD:PUBLISH
BEGIN:VEVENT
DTSTART:20251025T220100Z
DTEND:20251026T110000Z
UID:1676@http://folkan.sikfors.com/
DTSTAMP:20250929T140228Z
DESCRIPTION:40 årsfest
SUMMARY:Anette Hjelm
LOCATION:Stora salen
CLASS:PUBLIC
END:VEVENT
END:VCALENDAR
