BEGIN:VCALENDAR
PRODID:http://wibix.de/infusions/pro_download_panel/download.php?did=27
VERSION:2.0
METHOD:PUBLISH
BEGIN:VEVENT
DTSTART:20250625T220100Z
DTEND:20250626T215900Z
UID:1670@http://folkan.sikfors.com/
DTSTAMP:20250527T150949Z
DESCRIPTION:Psg lokalbokning
SUMMARY:Målselv if
LOCATION:Stora salen
CLASS:PUBLIC
RRULE:FREQ=DAILY;INTERVAL=1;UNTIL=20250628T220000Z
END:VEVENT
END:VCALENDAR
