BEGIN:VCALENDAR
PRODID:http://wibix.de/infusions/pro_download_panel/download.php?did=27
VERSION:2.0
METHOD:PUBLISH
BEGIN:VEVENT
DTSTART:20250926T220100Z
DTEND:20250927T215900Z
UID:1661@http://folkan.sikfors.com/
DTSTAMP:20250413T165815Z
DESCRIPTION:Fest
SUMMARY:Oliver Olofsson
LOCATION:stora salen
CLASS:PUBLIC
END:VEVENT
END:VCALENDAR
