BEGIN:VCALENDAR
PRODID:http://wibix.de/infusions/pro_download_panel/download.php?did=27
VERSION:2.0
METHOD:PUBLISH
BEGIN:VEVENT
DTSTART:20250920T070000Z
DTEND:20250920T140000Z
UID:1655@http://folkan.sikfors.com/
DTSTAMP:20250319T152803Z
DESCRIPTION:Förtidsröstning
SUMMARY:Svenska kyrkan
LOCATION:Stora salen
CLASS:PUBLIC
END:VEVENT
END:VCALENDAR
