BEGIN:VCALENDAR
PRODID:http://wibix.de/infusions/pro_download_panel/download.php?did=27
VERSION:2.0
METHOD:PUBLISH
BEGIN:VEVENT
DTSTART:20250530T220100Z
DTEND:20250531T215900Z
UID:1653@http://folkan.sikfors.com/
DTSTAMP:20250319T151332Z
DESCRIPTION:Fest
SUMMARY:Stina Lundberg
LOCATION:Stora salen
CLASS:PUBLIC
END:VEVENT
END:VCALENDAR
