BEGIN:VCALENDAR
PRODID:http://wibix.de/infusions/pro_download_panel/download.php?did=27
VERSION:2.0
METHOD:PUBLISH
BEGIN:VEVENT
DTSTART:20250530T120000Z
DTEND:20250530T215900Z
UID:1647@http://folkan.sikfors.com/
DTSTAMP:20250218T161108Z
DESCRIPTION:Fest
SUMMARY:Stina Lundberg
LOCATION:Stora salen
CLASS:PUBLIC
END:VEVENT
END:VCALENDAR
