BEGIN:VCALENDAR
PRODID:http://wibix.de/infusions/pro_download_panel/download.php?did=27
VERSION:2.0
METHOD:PUBLISH
BEGIN:VEVENT
DTSTART:20250312T060000Z
DTEND:20250312T225900Z
UID:1645@http://folkan.sikfors.com/
DTSTAMP:20250211T160855Z
DESCRIPTION:Konferens\nIordningställ före den 12:e\nStäda, diska och återställa lokalen den 13:e
SUMMARY:Stenvalls Trä
LOCATION:Stora salen
CLASS:PUBLIC
RRULE:FREQ=DAILY;INTERVAL=1;UNTIL=20250312T230000Z
END:VEVENT
END:VCALENDAR
