BEGIN:VCALENDAR
PRODID:http://wibix.de/infusions/pro_download_panel/download.php?did=27
VERSION:2.0
METHOD:PUBLISH
BEGIN:VEVENT
DTSTART:20250221T070000Z
DTEND:20250221T170000Z
UID:1637@http://folkan.sikfors.com/
DTSTAMP:20250124T101803Z
DESCRIPTION:Årsmöte
SUMMARY:PRO Sikfors
LOCATION:Stora salen
CLASS:PUBLIC
END:VEVENT
END:VCALENDAR
