BEGIN:VCALENDAR
PRODID:http://wibix.de/infusions/pro_download_panel/download.php?did=27
VERSION:2.0
METHOD:PUBLISH
BEGIN:VEVENT
DTSTART:20241223T230100Z
DTEND:20241224T225900Z
UID:1631@http://folkan.sikfors.com/
DTSTAMP:20241201T110356Z
DESCRIPTION:Julafton
SUMMARY:Peter Nilsson
LOCATION:Stora salen
CLASS:PUBLIC
END:VEVENT
END:VCALENDAR
