BEGIN:VCALENDAR
PRODID:http://wibix.de/infusions/pro_download_panel/download.php?did=27
VERSION:2.0
METHOD:PUBLISH
BEGIN:VEVENT
DTSTART:20241207T110000Z
DTEND:20241207T150000Z
UID:1630@http://folkan.sikfors.com/
DTSTAMP:20241127T200914Z
DESCRIPTION:Barnkalas
SUMMARY:Simon Edström
LOCATION:Stora salen
CLASS:PUBLIC
END:VEVENT
END:VCALENDAR
