BEGIN:VCALENDAR
PRODID:http://wibix.de/infusions/pro_download_panel/download.php?did=27
VERSION:2.0
METHOD:PUBLISH
BEGIN:VEVENT
DTSTART:20240926T110000Z
DTEND:20240926T140000Z
UID:1625@http://folkan.sikfors.com/
DTSTAMP:20240912T184148Z
DESCRIPTION:Konferens 30 personer\nProjektor och bord/stolar ställs fram och tas bort\nFikabord ställs fram för fika\nBord stolar tas bort efter genomgången av oss.\nPris 1000 kr
SUMMARY:Stenvalls Trä
LOCATION:Stora salen
CLASS:PUBLIC
END:VEVENT
END:VCALENDAR
