BEGIN:VCALENDAR
PRODID:http://wibix.de/infusions/pro_download_panel/download.php?did=27
VERSION:2.0
METHOD:PUBLISH
BEGIN:VEVENT
DTSTART:20240829T100000Z
DTEND:20240829T120000Z
UID:1620@http://folkan.sikfors.com/
DTSTAMP:20240825T122957Z
DESCRIPTION:Lek och idrott
SUMMARY:Skolan F2
LOCATION:Stora salen
CLASS:PUBLIC
RRULE:FREQ=WEEKLY;INTERVAL=1;UNTIL=20241218T230000Z
END:VEVENT
END:VCALENDAR
