BEGIN:VCALENDAR
PRODID:http://wibix.de/infusions/pro_download_panel/download.php?did=27
VERSION:2.0
METHOD:PUBLISH
BEGIN:VEVENT
DTSTART:20240830T100000Z
DTEND:20240830T120000Z
UID:1619@http://folkan.sikfors.com/
DTSTAMP:20240825T122727Z
DESCRIPTION:Lek och idrott
SUMMARY:skolan
LOCATION:Stora salen
CLASS:PUBLIC
RRULE:FREQ=WEEKLY;INTERVAL=1;UNTIL=20241212T230000Z
END:VEVENT
END:VCALENDAR
