BEGIN:VCALENDAR
PRODID:http://wibix.de/infusions/pro_download_panel/download.php?did=27
VERSION:2.0
METHOD:PUBLISH
BEGIN:VEVENT
DTSTART:20240828T070000Z
DTEND:20240828T160000Z
UID:1618@http://folkan.sikfors.com/
DTSTAMP:20240809T133837Z
DESCRIPTION:Surströmmingsfest
SUMMARY:Skanska vet
LOCATION:Stora salen
CLASS:PUBLIC
END:VEVENT
END:VCALENDAR
