BEGIN:VCALENDAR
PRODID:http://wibix.de/infusions/pro_download_panel/download.php?did=27
VERSION:2.0
METHOD:PUBLISH
BEGIN:VEVENT
DTSTART:20240514T060000Z
DTEND:20240514T133000Z
UID:1610@http://folkan.sikfors.com/
DTSTAMP:20240413T173224Z
DESCRIPTION:Konferens
SUMMARY:Stenvalls Trä
LOCATION:Stora salen
CLASS:PUBLIC
END:VEVENT
END:VCALENDAR
