BEGIN:VCALENDAR
PRODID:http://wibix.de/infusions/pro_download_panel/download.php?did=27
VERSION:2.0
METHOD:PUBLISH
BEGIN:VEVENT
DTSTART:20240310T170000Z
DTEND:20240310T200000Z
UID:1606@http://folkan.sikfors.com/
DTSTAMP:20240308T125903Z
DESCRIPTION:Årsmöte
SUMMARY:Sikfors Fvo
LOCATION:Konferensrummet
CLASS:PUBLIC
END:VEVENT
END:VCALENDAR
