BEGIN:VCALENDAR
PRODID:http://wibix.de/infusions/pro_download_panel/download.php?did=27
VERSION:2.0
METHOD:PUBLISH
BEGIN:VEVENT
DTSTART:20240808T220100Z
DTEND:20240809T215900Z
UID:1601@http://folkan.sikfors.com/
DTSTAMP:20240218T121629Z
DESCRIPTION:Bokning vad ?
SUMMARY:Åsa Nilsson
LOCATION:stora salen
CLASS:PUBLIC
RRULE:FREQ=DAILY;INTERVAL=1;UNTIL=20240810T220000Z
END:VEVENT
END:VCALENDAR
