BEGIN:VCALENDAR
PRODID:http://wibix.de/infusions/pro_download_panel/download.php?did=27
VERSION:2.0
METHOD:PUBLISH
BEGIN:VEVENT
DTSTART:20240607T220000Z
DTEND:20240608T215900Z
UID:1594@http://folkan.sikfors.com/
DTSTAMP:20240114T193255Z
DESCRIPTION:Fest
SUMMARY:Lilian Nilsson
LOCATION:Stora salen
CLASS:PUBLIC
END:VEVENT
END:VCALENDAR
