BEGIN:VCALENDAR
PRODID:http://wibix.de/infusions/pro_download_panel/download.php?did=27
VERSION:2.0
METHOD:PUBLISH
BEGIN:VEVENT
DTSTART:20240222T230100Z
DTEND:20240223T225900Z
UID:1589@http://folkan.sikfors.com/
DTSTAMP:20240114T192541Z
DESCRIPTION:Årsmöte
SUMMARY:PRO
LOCATION:Stora salen
CLASS:PUBLIC
END:VEVENT
END:VCALENDAR
