BEGIN:VCALENDAR
PRODID:http://wibix.de/infusions/pro_download_panel/download.php?did=27
VERSION:2.0
METHOD:PUBLISH
BEGIN:VEVENT
DTSTART:20231124T150000Z
DTEND:20231124T225900Z
UID:1581@http://folkan.sikfors.com/
DTSTAMP:20231027T083449Z
DESCRIPTION:Barndisco
SUMMARY:Josefin Edström
LOCATION:Stora salen
CLASS:PUBLIC
END:VEVENT
END:VCALENDAR
