BEGIN:VCALENDAR
PRODID:http://wibix.de/infusions/pro_download_panel/download.php?did=27
VERSION:2.0
METHOD:PUBLISH
BEGIN:VEVENT
DTSTART:20231030T060000Z
DTEND:20231030T160000Z
UID:1579@http://folkan.sikfors.com/
DTSTAMP:20231003T141125Z
DESCRIPTION:Hälsoundersökningar
SUMMARY:Stenvalls Tr
LOCATION:Stora salen
CLASS:PUBLIC
RRULE:FREQ=DAILY;INTERVAL=1;UNTIL=20231030T230000Z
END:VEVENT
END:VCALENDAR
