BEGIN:VCALENDAR
PRODID:http://wibix.de/infusions/pro_download_panel/download.php?did=27
VERSION:2.0
METHOD:PUBLISH
BEGIN:VEVENT
DTSTART:20231102T110000Z
DTEND:20231102T130000Z
UID:1573@http://folkan.sikfors.com/
DTSTAMP:20230901T071247Z
DESCRIPTION:Lek och idrott
SUMMARY:Skolan
LOCATION:Stora salen
CLASS:PUBLIC
RRULE:FREQ=WEEKLY;INTERVAL=1;UNTIL=20231215T230000Z
END:VEVENT
END:VCALENDAR
