BEGIN:VCALENDAR
PRODID:http://wibix.de/infusions/pro_download_panel/download.php?did=27
VERSION:2.0
METHOD:PUBLISH
BEGIN:VEVENT
DTSTART:20240531T220100Z
DTEND:20240601T215900Z
UID:1569@http://folkan.sikfors.com/
DTSTAMP:20230815T185254Z
DESCRIPTION:EP-val
SUMMARY:Piteå kommun
LOCATION:Stora salen
CLASS:PUBLIC
END:VEVENT
END:VCALENDAR
