BEGIN:VCALENDAR
PRODID:http://wibix.de/infusions/pro_download_panel/download.php?did=27
VERSION:2.0
METHOD:PUBLISH
BEGIN:VEVENT
DTSTART:20230831T060000Z
DTEND:20230831T210000Z
UID:1566@http://folkan.sikfors.com/
DTSTAMP:20230626T163921Z
DESCRIPTION:Surströmmingsfest
SUMMARY:Skanska veteranerna
LOCATION:Stora salen
CLASS:PUBLIC
END:VEVENT
END:VCALENDAR
