BEGIN:VCALENDAR
PRODID:http://wibix.de/infusions/pro_download_panel/download.php?did=27
VERSION:2.0
METHOD:PUBLISH
BEGIN:VEVENT
DTSTART:20230630T060000Z
DTEND:20230630T215900Z
UID:1564@http://folkan.sikfors.com/
DTSTAMP:20230525T143641Z
DESCRIPTION:PSG
SUMMARY:Sikfors Camping
LOCATION:Stora salen
CLASS:PUBLIC
RRULE:FREQ=DAILY;INTERVAL=1;UNTIL=20230701T220000Z
END:VEVENT
END:VCALENDAR
