BEGIN:VCALENDAR
PRODID:http://wibix.de/infusions/pro_download_panel/download.php?did=27
VERSION:2.0
METHOD:PUBLISH
BEGIN:VEVENT
DTSTART:20230607T160000Z
DTEND:20230607T180000Z
UID:1560@http://folkan.sikfors.com/
DTSTAMP:20230425T164748Z
DESCRIPTION:Konferens
SUMMARY:Sikfors Camping
LOCATION:Stora salen
CLASS:PUBLIC
END:VEVENT
END:VCALENDAR
