BEGIN:VCALENDAR
PRODID:http://wibix.de/infusions/pro_download_panel/download.php?did=27
VERSION:2.0
METHOD:PUBLISH
BEGIN:VEVENT
DTSTART:20230417T120000Z
DTEND:20230417T140000Z
UID:1559@http://folkan.sikfors.com/
DTSTAMP:20230404T161651Z
DESCRIPTION:Årsmöte
SUMMARY:GS klubb Sikfors
LOCATION:Stora salen
CLASS:PUBLIC
END:VEVENT
END:VCALENDAR
