BEGIN:VCALENDAR
PRODID:http://wibix.de/infusions/pro_download_panel/download.php?did=27
VERSION:2.0
METHOD:PUBLISH
BEGIN:VEVENT
DTSTART:20230312T160000Z
DTEND:20230312T180000Z
UID:1558@http://folkan.sikfors.com/
DTSTAMP:20230311T132639Z
DESCRIPTION:Badminton
SUMMARY:Anna-Lena
LOCATION:Stora salen
CLASS:PUBLIC
END:VEVENT
END:VCALENDAR
