BEGIN:VCALENDAR
PRODID:http://wibix.de/infusions/pro_download_panel/download.php?did=27
VERSION:2.0
METHOD:PUBLISH
BEGIN:VEVENT
DTSTART:20230304T090000Z
DTEND:20230304T130000Z
UID:1552@http://folkan.sikfors.com/
DTSTAMP:20230226T143251Z
DESCRIPTION:Barnkalas
SUMMARY:Pontus Larsson
LOCATION:Stora salen
CLASS:PUBLIC
END:VEVENT
END:VCALENDAR
