BEGIN:VCALENDAR
PRODID:http://wibix.de/infusions/pro_download_panel/download.php?did=27
VERSION:2.0
METHOD:PUBLISH
BEGIN:VEVENT
DTSTART:20230118T100000Z
DTEND:20230118T120000Z
UID:1538@http://folkan.sikfors.com/
DTSTAMP:20230115T173719Z
DESCRIPTION:Gympa personalen
SUMMARY:Stenvalls Trä
LOCATION:Stora salen
CLASS:PUBLIC
RRULE:FREQ=WEEKLY;INTERVAL=1;UNTIL=20230411T220000Z
END:VEVENT
END:VCALENDAR
