BEGIN:VCALENDAR
PRODID:http://wibix.de/infusions/pro_download_panel/download.php?did=27
VERSION:2.0
METHOD:PUBLISH
BEGIN:VEVENT
DTSTART:20230824T220100Z
DTEND:20230825T190000Z
UID:1522@http://folkan.sikfors.com/
DTSTAMP:20221005T080850Z
DESCRIPTION:Höstupptakt
SUMMARY:PRO Sikfors
LOCATION:Stora salen
CLASS:PUBLIC
END:VEVENT
END:VCALENDAR
