BEGIN:VCALENDAR
PRODID:http://wibix.de/infusions/pro_download_panel/download.php?did=27
VERSION:2.0
METHOD:PUBLISH
BEGIN:VEVENT
DTSTART:20190221T230100Z
DTEND:20190222T225900Z
UID:1249@http://folkan.sikfors.com/
DTSTAMP:20181020T085616Z
DESCRIPTION:Årsmöte
SUMMARY:PRO Sikfors
LOCATION:Stora salen
CLASS:PUBLIC
END:VEVENT
END:VCALENDAR
