BEGIN:VCALENDAR
PRODID:http://wibix.de/infusions/pro_download_panel/download.php?did=27
VERSION:2.0
METHOD:PUBLISH
BEGIN:VEVENT
DTSTART:20180810T220100Z
DTEND:20180811T215900Z
UID:1209@http://folkan.sikfors.com/
DTSTAMP:20180417T204427Z
DESCRIPTION:Fest
SUMMARY:Eva Pettersson
LOCATION:Stora salen
CLASS:PUBLIC
END:VEVENT
END:VCALENDAR
